BEGIN:VCALENDAR
VERSION:2.0
PRODID:-//soldiersbestfriend.org//NONSGML kigkonsult.se iCalcreator 2.30.10
 //
CALSCALE:GREGORIAN
METHOD:PUBLISH
UID:9e002add-463a-4b2e-bba3-52366096e81c
X-WR-CALDESC:We are thrilled to invite you to our Annual Salute to Service 
 Dinner in Tucson\, Prescott\, and Phoenix. We invite you to share in an ev
 ening filled with powerful testimonies from our veteran graduates and disc
 over the mission of Soldier's Best Friend. Bring a friend or two to witnes
 s the resilience and courage of those who’ve served. Every dollar raised f
 rom this event will support our commitment to help provide essential\, lif
 e-changing services to eligible veterans at no cost\, ensuring they receiv
 e the care they deserve. Your presence can make a difference in their jour
 ney.\n\n~ Tucson's dinner will be held on Thursday\, June 4\, at 6:00 pm a
 t American Legion Morgan McDermott Post 7\, 330 W Franklin St\, Tucson\, A
 Z 85701\n\n~Prescott's dinner will be held on Thursday\, June 11\, at 6:00
  pm at the Elks Theatre Performing Arts Center\, 117 E. Gurley Street\, Pr
 escott\, AZ 86301\n\n~Phoenix's dinner will be held on Thursday\, June 18\
 , at 6:00 pm at Martin Auto Museum and Event Center\, 4320 W Thunderbird R
 d\, Glendale\, AZ 85306
X-WR-RELCALID:39798dd6206e49070ef189a0a9b4b6a2
X-WR-TIMEZONE:America/Phoenix
BEGIN:VTIMEZONE
TZID:America/Phoenix
BEGIN:STANDARD
TZNAME:MST
DTSTART:20240916T070000
TZOFFSETFROM:+0000
TZOFFSETTO:-0700
END:STANDARD
END:VTIMEZONE
BEGIN:VEVENT
UID:1ee8500a-20c1-4cd9-8488-f33c4e2dca50
DTSTAMP:20260422T054132Z
DESCRIPTION:We are thrilled to invite you to our Annual Salute to Service D
 inner in Tucson\, Prescott\, and Phoenix. We invite you to share in an eve
 ning filled with powerful testimonies from our veteran graduates and disco
 ver the mission of Soldier's Best Friend. Bring a friend or two to witness
  the resilience and courage of those who’ve served. Every dollar raised fr
 om this event will support our commitment to help provide essential\, life
 -changing services to eligible veterans at no cost\, ensuring they receive
  the care they deserve. Your presence can make a difference in their journ
 ey.\n\n~ Tucson's dinner will be held on Thursday\, June 4\, at 6:00 pm at
  American Legion Morgan McDermott Post 7\, 330 W Franklin St\, Tucson\, AZ
  85701\n\n~Prescott's dinner will be held on Thursday\, June 11\, at 6:00 
 pm at the Elks Theatre Performing Arts Center\, 117 E. Gurley Street\, Pre
 scott\, AZ 86301\n\n~Phoenix's dinner will be held on Thursday\, June 18\,
  at 6:00 pm at Martin Auto Museum and Event Center\, 4320 W Thunderbird Rd
 \, Glendale\, AZ 85306
DTSTART;TZID=America/Phoenix:20260618T180000
DTEND;TZID=America/Phoenix:20260618T200000
LOCATION:4320 W Thunderbird Rd\, Martin Auto Museum and Event Center\, Glen
 dale\, AZ 85306 US
SUMMARY:Salute to Service Dinner Phoenix
END:VEVENT
END:VCALENDAR
