BEGIN:VCALENDAR
VERSION:2.0
PRODID:-//soldiersbestfriend.org//NONSGML kigkonsult.se iCalcreator 2.30.10
 //
CALSCALE:GREGORIAN
METHOD:PUBLISH
UID:363e13f2-88e4-421a-86c9-67cf2a9bc72b
X-WR-CALDESC:We are excited to be hosting our Annual Salute to Service Dinn
 er in Prescott\, Tucson\, and Phoenix.  We hope you will join us at one of
  these locations to hear testimonies from our veteran graduates and learn 
 more about Soldier's Best Friend's mission.  Grab a friend or two and join
  us for the evening.  All proceeds from this event will go toward continui
 ng to provide life-changing services at no cost to eligible veterans.\n\n~
  Thursday\, June 4: Prescott at 6 pm. Elks Theatre Performing Arts Center\
 , 117 E. Gurley Street\, Prescott\, AZ 86301\n~ Thursday\, June 11: Tucson
  at 6 pm American Legion Morgan McDermott Post 7\, 330 W Franklin St\, Tuc
 son\, AZ 85701\n~ Thursday\, June 18: Phoenix at 6 pm Martin Auto Museum a
 nd Event Center\, 4320 W Thunderbird Rd\, Glendale\, AZ 85306
X-WR-RELCALID:b74665fde5c654d8ef9ac12c96054dce
X-WR-TIMEZONE:America/Phoenix
BEGIN:VTIMEZONE
TZID:America/Phoenix
BEGIN:STANDARD
TZNAME:MST
DTSTART:20240902T070000
TZOFFSETFROM:+0000
TZOFFSETTO:-0700
END:STANDARD
END:VTIMEZONE
BEGIN:VEVENT
UID:d0dbdae3-dc51-42ef-8122-fdfa6b183c6b
DTSTAMP:20260420T162417Z
DESCRIPTION:We are excited to be hosting our Annual Salute to Service Dinne
 r in Prescott\, Tucson\, and Phoenix.  We hope you will join us at one of 
 these locations to hear testimonies from our veteran graduates and learn m
 ore about Soldier's Best Friend's mission.  Grab a friend or two and join 
 us for the evening.  All proceeds from this event will go toward continuin
 g to provide life-changing services at no cost to eligible veterans.\n\n~ 
 Thursday\, June 4: Prescott at 6 pm. Elks Theatre Performing Arts Center\,
  117 E. Gurley Street\, Prescott\, AZ 86301\n~ Thursday\, June 11: Tucson 
 at 6 pm American Legion Morgan McDermott Post 7\, 330 W Franklin St\, Tucs
 on\, AZ 85701\n~ Thursday\, June 18: Phoenix at 6 pm Martin Auto Museum an
 d Event Center\, 4320 W Thunderbird Rd\, Glendale\, AZ 85306
DTSTART;TZID=America/Phoenix:20260604T180000
DTEND;TZID=America/Phoenix:20260604T200000
LOCATION:Prescott\, Tucson\, and Phoenix AZ
SUMMARY:Salute to Service Dinner Prescott
END:VEVENT
END:VCALENDAR
