BEGIN:VCALENDAR
VERSION:2.0
PRODID:-//soldiersbestfriend.org//NONSGML kigkonsult.se iCalcreator 2.30.10
 //
CALSCALE:GREGORIAN
METHOD:PUBLISH
UID:96df206d-7d95-4265-bf67-c18b46e9592d
X-WR-CALDESC:
X-WR-RELCALID:22f2b15911759058446414fcd1a91265
X-WR-TIMEZONE:America/Phoenix
BEGIN:VTIMEZONE
TZID:America/Phoenix
BEGIN:STANDARD
TZNAME:MST
DTSTART:20240828T070000
TZOFFSETFROM:+0000
TZOFFSETTO:-0700
END:STANDARD
END:VTIMEZONE
BEGIN:VEVENT
UID:bad1fc2e-7917-4f09-986c-9ef202cd7133
DTSTAMP:20260424T050245Z
DESCRIPTION:
DTSTART;TZID=America/Phoenix:20260530T090000
DTEND;TZID=America/Phoenix:20260530T140000
LOCATION:7501 Civic Center Drive\, Prescott Valley\, AZ 86314 US
SUMMARY:The Prescott Dog Magazine 15th Annual WOOFstock
END:VEVENT
END:VCALENDAR
