BEGIN:VCALENDAR
VERSION:2.0
PRODID:-//soldiersbestfriend.org//NONSGML kigkonsult.se iCalcreator 2.30.10
 //
CALSCALE:GREGORIAN
METHOD:PUBLISH
UID:b5478601-ed92-47ee-8391-430e0ebc2a45
X-WR-CALDESC:
X-WR-RELCALID:c06c117aa22283b91e52abe1b80c9f6e
X-WR-TIMEZONE:America/Phoenix
BEGIN:VTIMEZONE
TZID:America/Phoenix
BEGIN:STANDARD
TZNAME:MST
DTSTART:20240807T070000
TZOFFSETFROM:+0000
TZOFFSETTO:-0700
END:STANDARD
END:VTIMEZONE
BEGIN:VEVENT
UID:2f0f97ee-3b23-46c3-a75f-cfbabb212b0c
DTSTAMP:20260424T045714Z
DESCRIPTION:
DTSTART;TZID=America/Phoenix:20260509T040000
DTEND;TZID=America/Phoenix:20260509T040001
LOCATION:
SUMMARY:Congressman Andy Biggs Drop Zone 2026
END:VEVENT
END:VCALENDAR
