BEGIN:VCALENDAR
VERSION:2.0
PRODID:-//soldiersbestfriend.org//NONSGML kigkonsult.se iCalcreator 2.30.10
 //
CALSCALE:GREGORIAN
METHOD:PUBLISH
UID:4e61b47b-9852-4fdb-acca-32d1371ccea8
X-WR-CALDESC:
X-WR-RELCALID:9cad04257bea49408bff193676e32f80
X-WR-TIMEZONE:America/Phoenix
BEGIN:VTIMEZONE
TZID:America/Phoenix
BEGIN:STANDARD
TZNAME:MST
DTSTART:20240417T070000
TZOFFSETFROM:+0000
TZOFFSETTO:-0700
END:STANDARD
END:VTIMEZONE
BEGIN:VEVENT
UID:f43d744c-6bf6-4256-9030-c44f23447adf
DTSTAMP:20260421T085534Z
DESCRIPTION:
DTSTART;TZID=America/Phoenix:20260117T100000
DTEND;TZID=America/Phoenix:20260117T140000
LOCATION:176 N Frontier St\, Wickenburg\, AZ 85390 US
SUMMARY:Wickenburg Stand Down
END:VEVENT
END:VCALENDAR
