BEGIN:VCALENDAR
VERSION:2.0
PRODID:-//soldiersbestfriend.org//NONSGML kigkonsult.se iCalcreator 2.30.10
 //
CALSCALE:GREGORIAN
METHOD:PUBLISH
UID:7fce3d38-b748-4460-b76a-2df011b7e40e
X-WR-CALDESC:
X-WR-RELCALID:704bbe341bba021caef3231393bb7fe9
X-WR-TIMEZONE:America/Phoenix
BEGIN:VTIMEZONE
TZID:America/Phoenix
BEGIN:STANDARD
TZNAME:MST
DTSTART:20230913T070000
TZOFFSETFROM:+0000
TZOFFSETTO:-0700
END:STANDARD
END:VTIMEZONE
BEGIN:VEVENT
UID:4095c2ed-0a9e-453e-9c3b-4a7d8a81b044
DTSTAMP:20260421T103709Z
DESCRIPTION:
DTSTART;TZID=America/Phoenix:20250614T040000
DTEND;TZID=America/Phoenix:20250614T040001
LOCATION:Barrio Brewing Co\, 800 E 16th St\, Tucson\, AZ 85719 US
SUMMARY:Barrio Brewing Co Tucson Fundraiser
END:VEVENT
END:VCALENDAR
