BEGIN:VCALENDAR
VERSION:2.0
PRODID:-//soldiersbestfriend.org//NONSGML kigkonsult.se iCalcreator 2.30.10
 //
CALSCALE:GREGORIAN
METHOD:PUBLISH
UID:51fffeba-284f-4f0d-a136-e611cd2ee0f6
X-WR-CALDESC:
X-WR-RELCALID:1fa89fcf95732a01a29a137e99857b0e
X-WR-TIMEZONE:America/Phoenix
BEGIN:VTIMEZONE
TZID:America/Phoenix
BEGIN:STANDARD
TZNAME:MST
DTSTART:20230828T070000
TZOFFSETFROM:+0000
TZOFFSETTO:-0700
END:STANDARD
END:VTIMEZONE
BEGIN:VEVENT
UID:4669dfab-f783-41e3-be77-74c7a5f40d6a
DTSTAMP:20260421T115705Z
DESCRIPTION:
DTSTART;TZID=America/Phoenix:20250529T100000
DTEND;TZID=America/Phoenix:20250529T150000
LOCATION:Payson Elks Lodge #2154\, 1206 North Beeline Highway\, Payson\, AZ
  85541 US
SUMMARY:Veteran Standdown and Homeless Wellness & Employment Fair in Payson
END:VEVENT
END:VCALENDAR
