BEGIN:VCALENDAR
VERSION:2.0
PRODID:-//soldiersbestfriend.org//NONSGML kigkonsult.se iCalcreator 2.30.10
 //
CALSCALE:GREGORIAN
METHOD:PUBLISH
UID:f3f48fd4-4997-48e8-a6a3-f850081b01f7
X-WR-CALDESC:Welcome to the 2nd Annual Dr. Adam McCray Raffle Run! Lace up 
 your hiking shoes and join us at the Vietnam Veterans Memorial Trailhead f
 or a day of raffle prizes and honoring the fallen. Whether you're seasoned
  or just looking for a good time\, this event is great for everyone whethe
 r you are a veteran or civilian.\n\nSupport Veterans' Mental Health: The e
 vent raises funds for local veterans' mental health nonprofits\, making it
  a meaningful way to give back and honor the legacy of Dr. Adam McCray.
X-WR-RELCALID:d45de0c28cf9f752556b62a05476b3f9
X-WR-TIMEZONE:America/Phoenix
BEGIN:VTIMEZONE
TZID:America/Phoenix
BEGIN:STANDARD
TZNAME:MST
DTSTART:20230825T070000
TZOFFSETFROM:+0000
TZOFFSETTO:-0700
END:STANDARD
END:VTIMEZONE
BEGIN:VEVENT
UID:418af1dc-c145-4fef-b231-239bdc7b1bd7
DTSTAMP:20260421T115140Z
DESCRIPTION:Welcome to the 2nd Annual Dr. Adam McCray Raffle Run! Lace up y
 our hiking shoes and join us at the Vietnam Veterans Memorial Trailhead fo
 r a day of raffle prizes and honoring the fallen. Whether you're seasoned 
 or just looking for a good time\, this event is great for everyone whether
  you are a veteran or civilian.\n\nSupport Veterans' Mental Health: The ev
 ent raises funds for local veterans' mental health nonprofits\, making it 
 a meaningful way to give back and honor the legacy of Dr. Adam McCray.
DTSTART;TZID=America/Phoenix:20250526T080000
DTEND;TZID=America/Phoenix:20250526T110000
LOCATION:Vietnam Veterans Memorial Trailhead\, Peoria\, AZ 85383 US
SUMMARY:2nd Annual Dr. Adam McCray Raffle Run
END:VEVENT
END:VCALENDAR
