BEGIN:VCALENDAR
VERSION:2.0
PRODID:-//soldiersbestfriend.org//NONSGML kigkonsult.se iCalcreator 2.30.10
 //
CALSCALE:GREGORIAN
METHOD:PUBLISH
UID:f09b5e57-1923-4721-bc8a-1efdbaac370e
X-WR-CALDESC:13th Annual High Country Stand Down in Flagstaff will feature 
 VA Enrollment\, services\, mobile Vet center and more! For more informatio
 n contact (928) 286-7446.
X-WR-RELCALID:597f7c2e4503f0d2af95c68fb04ca866
X-WR-TIMEZONE:America/Phoenix
BEGIN:VTIMEZONE
TZID:America/Phoenix
BEGIN:STANDARD
TZNAME:MST
DTSTART:20230814T070000
TZOFFSETFROM:+0000
TZOFFSETTO:-0700
END:STANDARD
END:VTIMEZONE
BEGIN:VEVENT
UID:0daca920-c601-4cad-afd0-81056668466e
DTSTAMP:20260421T115904Z
DESCRIPTION:13th Annual High Country Stand Down in Flagstaff will feature V
 A Enrollment\, services\, mobile Vet center and more! For more information
  contact (928) 286-7446.
DTSTART;TZID=America/Phoenix:20250515T090000
DTEND;TZID=America/Phoenix:20250515T140000
LOCATION:Arizona State Veterans Home\, 2100 N. Gemini Road\, Flagstaff\, AZ
  86001 US
SUMMARY:13th Annual High Country Veteran Stand Down
END:VEVENT
END:VCALENDAR
