BEGIN:VCALENDAR
VERSION:2.0
PRODID:-//soldiersbestfriend.org//NONSGML kigkonsult.se iCalcreator 2.30.10
 //
CALSCALE:GREGORIAN
METHOD:PUBLISH
UID:9f528c1c-6c36-45e9-9572-41c975ca0d90
X-WR-CALDESC:
X-WR-RELCALID:02bd9892595afb57226908f34d84c2be
X-WR-TIMEZONE:America/Phoenix
BEGIN:VTIMEZONE
TZID:America/Phoenix
BEGIN:STANDARD
TZNAME:MST
DTSTART:20230809T070000
TZOFFSETFROM:+0000
TZOFFSETTO:-0700
END:STANDARD
END:VTIMEZONE
BEGIN:VEVENT
UID:0f3580e1-1eb9-4436-95ed-070ce872de8d
DTSTAMP:20260421T115723Z
DESCRIPTION:
DTSTART;TZID=America/Phoenix:20250510T090000
DTEND;TZID=America/Phoenix:20250510T130000
LOCATION:Veteran's Memorial Park\, 3105 E Fry Blvd\, Sierra Vista\, AZ 8563
 5 US
SUMMARY:Celebrating Animals in Sierra Vista
END:VEVENT
END:VCALENDAR
