BEGIN:VCALENDAR
VERSION:2.0
PRODID:-//soldiersbestfriend.org//NONSGML kigkonsult.se iCalcreator 2.30.10
 //
CALSCALE:GREGORIAN
METHOD:PUBLISH
UID:29cec91b-41b6-4bd0-a003-3ba7a0911b3b
X-WR-CALDESC:
X-WR-RELCALID:fd6c40607bc13c2e8257d0b693131d06
X-WR-TIMEZONE:America/Phoenix
BEGIN:VTIMEZONE
TZID:America/Phoenix
BEGIN:STANDARD
TZNAME:MST
DTSTART:20230802T070000
TZOFFSETFROM:+0000
TZOFFSETTO:-0700
END:STANDARD
END:VTIMEZONE
BEGIN:VEVENT
UID:89bf13ea-3f33-4691-a745-a2c67f1b0ff7
DTSTAMP:20260421T115216Z
DESCRIPTION:
DTSTART;TZID=America/Phoenix:20250503T100000
DTEND;TZID=America/Phoenix:20250503T140000
LOCATION:7729 E. Pecos Rd\, Mesa\, AZ 85212 US
SUMMARY:Drop Zone Standdown
END:VEVENT
END:VCALENDAR
