BEGIN:VCALENDAR
VERSION:2.0
PRODID:-//soldiersbestfriend.org//NONSGML kigkonsult.se iCalcreator 2.30.10
 //
CALSCALE:GREGORIAN
METHOD:PUBLISH
UID:db01ae5b-314f-4747-8d16-7581f4cdd32d
X-WR-CALDESC:
X-WR-RELCALID:fffadbceadad1365ef6363bcc9ef83e0
X-WR-TIMEZONE:America/Phoenix
BEGIN:VTIMEZONE
TZID:America/Phoenix
BEGIN:STANDARD
TZNAME:MST
DTSTART:20230802T070000
TZOFFSETFROM:+0000
TZOFFSETTO:-0700
END:STANDARD
END:VTIMEZONE
BEGIN:VEVENT
UID:8275e812-147f-4f0a-b729-25bbd52cd09c
DTSTAMP:20260421T115133Z
DESCRIPTION:
DTSTART;TZID=America/Phoenix:20250503T110000
DTEND;TZID=America/Phoenix:20250503T120000
LOCATION:
SUMMARY:Adobe Mountain Speedway Charity Golf Tournament
END:VEVENT
END:VCALENDAR
