BEGIN:VCALENDAR
VERSION:2.0
PRODID:-//soldiersbestfriend.org//NONSGML kigkonsult.se iCalcreator 2.30.10
 //
CALSCALE:GREGORIAN
METHOD:PUBLISH
UID:9bb1fa4e-58c9-4f95-a63e-b4cc047563c1
X-WR-CALDESC:
X-WR-RELCALID:a604a00d2f956a8bbc08d81d1da042df
X-WR-TIMEZONE:America/Phoenix
BEGIN:VTIMEZONE
TZID:America/Phoenix
BEGIN:STANDARD
TZNAME:MST
DTSTART:20230801T070000
TZOFFSETFROM:+0000
TZOFFSETTO:-0700
END:STANDARD
END:VTIMEZONE
BEGIN:VEVENT
UID:f4aa9f23-acd5-4452-9b41-92e2ac00605d
DTSTAMP:20260421T115724Z
DESCRIPTION:
DTSTART;TZID=America/Phoenix:20250502T090000
DTEND;TZID=America/Phoenix:20250502T140000
LOCATION:309 E. Beale Street\, Kingman\, AZ 86401 US
SUMMARY:Kingman Veterans Stand Down
END:VEVENT
END:VCALENDAR
