BEGIN:VCALENDAR
VERSION:2.0
PRODID:-//soldiersbestfriend.org//NONSGML kigkonsult.se iCalcreator 2.30.10
 //
CALSCALE:GREGORIAN
METHOD:PUBLISH
UID:a0f81ea9-7c52-40cf-89aa-68379d00437f
X-WR-CALDESC:SFDA Catholic School 4th grade class raised money to support S
 BF.  A rep from SBF will be giving a presentation to the class\, then be p
 resented with a check.
X-WR-RELCALID:e03ad2c0522ea42d4761c8ce5e0a3916
X-WR-TIMEZONE:America/Phoenix
BEGIN:VTIMEZONE
TZID:America/Phoenix
BEGIN:STANDARD
TZNAME:MST
DTSTART:20230724T070000
TZOFFSETFROM:+0000
TZOFFSETTO:-0700
END:STANDARD
END:VTIMEZONE
BEGIN:VEVENT
UID:f96c3d03-c24e-40c8-b910-402886b503bf
DTSTAMP:20260421T131953Z
DESCRIPTION:SFDA Catholic School 4th grade class raised money to support SB
 F.  A rep from SBF will be giving a presentation to the class\, then be pr
 esented with a check.
DTSTART;TZID=America/Phoenix:20250424T080000
DTEND;TZID=America/Phoenix:20250424T083000
LOCATION:
SUMMARY:SFDA Catholic School Donation and Presentation
END:VEVENT
END:VCALENDAR
