BEGIN:VCALENDAR
VERSION:2.0
PRODID:-//soldiersbestfriend.org//NONSGML kigkonsult.se iCalcreator 2.30.10
 //
CALSCALE:GREGORIAN
METHOD:PUBLISH
UID:37cc592d-25fb-4021-99cb-bbad0ca4dc22
X-WR-CALDESC:Come visit our table at the Veterans Stand Down and learn more
  about our organization.
X-WR-RELCALID:2f90d3da23656cc9cd55b820cd8dec92
X-WR-TIMEZONE:America/Phoenix
BEGIN:VTIMEZONE
TZID:America/Phoenix
BEGIN:STANDARD
TZNAME:MST
DTSTART:20230724T070000
TZOFFSETFROM:+0000
TZOFFSETTO:-0700
END:STANDARD
END:VTIMEZONE
BEGIN:VEVENT
UID:a40a0f0a-20eb-4e08-868c-340886e2ffde
DTSTAMP:20260421T131511Z
DESCRIPTION:Come visit our table at the Veterans Stand Down and learn more 
 about our organization.
DTSTART;TZID=America/Phoenix:20250424T120000
DTEND;TZID=America/Phoenix:20250424T150000
LOCATION:219 N. 4th St\, Kingman\, AZ 86401 US
SUMMARY:Kingman Veterans Stand Down
END:VEVENT
END:VCALENDAR
