BEGIN:VCALENDAR
VERSION:2.0
PRODID:-//soldiersbestfriend.org//NONSGML kigkonsult.se iCalcreator 2.30.10
 //
CALSCALE:GREGORIAN
METHOD:PUBLISH
UID:e110eb3b-900c-4320-abb8-21bef6b8380e
X-WR-CALDESC:
X-WR-RELCALID:25faa48f148713ebe61e2c4b9178b179
X-WR-TIMEZONE:America/Phoenix
BEGIN:VTIMEZONE
TZID:America/Phoenix
BEGIN:STANDARD
TZNAME:MST
DTSTART:20230719T070000
TZOFFSETFROM:+0000
TZOFFSETTO:-0700
END:STANDARD
END:VTIMEZONE
BEGIN:VEVENT
UID:0f823d31-df4d-4847-9f55-e41fa0cd474c
DTSTAMP:20260421T133636Z
DESCRIPTION:
DTSTART;TZID=America/Phoenix:20250419T080000
DTEND;TZID=America/Phoenix:20250419T130000
LOCATION:American Furniture Warehouse\, 5801 N 99th Ave\, Glendale\, AZ 853
 05 US
SUMMARY:WeSERV 2025 Salute to Veterans Car Show
END:VEVENT
END:VCALENDAR
