BEGIN:VCALENDAR
VERSION:2.0
PRODID:-//soldiersbestfriend.org//NONSGML kigkonsult.se iCalcreator 2.30.10
 //
CALSCALE:GREGORIAN
METHOD:PUBLISH
UID:f0ad4287-85ac-4da1-b258-2e8aa18dd86c
X-WR-CALDESC:
X-WR-RELCALID:d2902941ee77d62e0a67f5c13d55231d
X-WR-TIMEZONE:America/Phoenix
BEGIN:VTIMEZONE
TZID:America/Phoenix
BEGIN:STANDARD
TZNAME:MST
DTSTART:20230718T070000
TZOFFSETFROM:+0000
TZOFFSETTO:-0700
END:STANDARD
END:VTIMEZONE
BEGIN:VEVENT
UID:4c8d3ab3-a63f-4957-8b9e-23c0e6f4ee21
DTSTAMP:20260421T132808Z
DESCRIPTION:
DTSTART;TZID=America/Phoenix:20250418T070000
DTEND;TZID=America/Phoenix:20250418T150000
LOCATION:20800 N. 135th Ave\, Sun City West\, AZ 85375 US
SUMMARY:Peoria Chamber of Commerce 5th Annual Charity Golf Tournament
END:VEVENT
END:VCALENDAR
