BEGIN:VCALENDAR
VERSION:2.0
PRODID:-//soldiersbestfriend.org//NONSGML kigkonsult.se iCalcreator 2.30.10
 //
CALSCALE:GREGORIAN
METHOD:PUBLISH
UID:631c347f-01c0-486c-95c3-b31e457976bb
X-WR-CALDESC:
X-WR-RELCALID:7f3beee4c4c9b1812d37648777ef1685
X-WR-TIMEZONE:America/Phoenix
BEGIN:VTIMEZONE
TZID:America/Phoenix
BEGIN:STANDARD
TZNAME:MST
DTSTART:20230716T070000
TZOFFSETFROM:+0000
TZOFFSETTO:-0700
END:STANDARD
END:VTIMEZONE
BEGIN:VEVENT
UID:d90b7ef2-959a-4f1a-a8e9-a05696b86330
DTSTAMP:20260421T132912Z
DESCRIPTION:
DTSTART;TZID=America/Phoenix:20250416T080000
DTEND;TZID=America/Phoenix:20250417T163000
LOCATION:Desert Willow Conference Center\, 4340 E. Cotton Center Blvd\, Pho
 enix\, AZ 85040 US
SUMMARY:2025 Symposium in Support of Service Members\, Veterans & Their Fam
 ilies
END:VEVENT
END:VCALENDAR
