BEGIN:VCALENDAR
VERSION:2.0
PRODID:-//soldiersbestfriend.org//NONSGML kigkonsult.se iCalcreator 2.30.10
 //
CALSCALE:GREGORIAN
METHOD:PUBLISH
UID:b57b37c9-831e-4c08-a311-f7f0a0c1f4dd
X-WR-CALDESC:A representative from SBF will have a booth at The City of Sur
 prise Vet Fest.  Stop by to say 'hi' and learn more about our program.
X-WR-RELCALID:49ad6570ed2d2294a70b9c522d35bf4c
X-WR-TIMEZONE:America/Phoenix
BEGIN:VTIMEZONE
TZID:America/Phoenix
BEGIN:STANDARD
TZNAME:MST
DTSTART:20230712T070000
TZOFFSETFROM:+0000
TZOFFSETTO:-0700
END:STANDARD
END:VTIMEZONE
BEGIN:VEVENT
UID:190eff8a-8e4f-4a72-b70f-7c9286a27d80
DTSTAMP:20260421T132043Z
DESCRIPTION:A representative from SBF will have a booth at The City of Surp
 rise Vet Fest.  Stop by to say 'hi' and learn more about our program.
DTSTART;TZID=America/Phoenix:20250412T170000
DTEND;TZID=America/Phoenix:20250412T200000
LOCATION:Mark Coronado Park\, 15960 N. Bullard Ave.\, Surprise\, AZ 85374 U
 S
SUMMARY:Surprise Vet Fest
END:VEVENT
END:VCALENDAR
