BEGIN:VCALENDAR
VERSION:2.0
PRODID:-//soldiersbestfriend.org//NONSGML kigkonsult.se iCalcreator 2.30.10
 //
CALSCALE:GREGORIAN
METHOD:PUBLISH
UID:a3214812-1c09-485f-a3c1-6931a3655917
X-WR-CALDESC:SBF will be giving a presentation to the group at Sun City Gra
 nd.
X-WR-RELCALID:3e98d232756d138b93a953c4d1b3329f
X-WR-TIMEZONE:America/Phoenix
BEGIN:VTIMEZONE
TZID:America/Phoenix
BEGIN:STANDARD
TZNAME:MST
DTSTART:20230627T070000
TZOFFSETFROM:+0000
TZOFFSETTO:-0700
END:STANDARD
END:VTIMEZONE
BEGIN:VEVENT
UID:033a4cee-1172-40d0-b8f8-26a206379440
DTSTAMP:20260421T150055Z
DESCRIPTION:SBF will be giving a presentation to the group at Sun City Gran
 d.
DTSTART;TZID=America/Phoenix:20250328T170000
DTEND;TZID=America/Phoenix:20250328T180000
LOCATION:
SUMMARY:Sun City Grand Golf Tournament Presentation
END:VEVENT
END:VCALENDAR
