BEGIN:VCALENDAR
VERSION:2.0
PRODID:-//soldiersbestfriend.org//NONSGML kigkonsult.se iCalcreator 2.30.10
 //
CALSCALE:GREGORIAN
METHOD:PUBLISH
UID:e826c685-128b-44f8-bf09-c09f8602795a
X-WR-CALDESC:
X-WR-RELCALID:69fb1aafea80faa80cad3ad94faa13ed
X-WR-TIMEZONE:America/Phoenix
BEGIN:VTIMEZONE
TZID:America/Phoenix
BEGIN:STANDARD
TZNAME:MST
DTSTART:20230625T070000
TZOFFSETFROM:+0000
TZOFFSETTO:-0700
END:STANDARD
END:VTIMEZONE
BEGIN:VEVENT
UID:1c37d36f-3c4b-4fab-a32e-b282d44adeb9
DTSTAMP:20260421T152819Z
DESCRIPTION:
DTSTART;TZID=America/Phoenix:20250326T110000
DTEND;TZID=America/Phoenix:20250326T130000
LOCATION:
SUMMARY:Luke AFB Volunteer Expo
END:VEVENT
END:VCALENDAR
