BEGIN:VCALENDAR
VERSION:2.0
PRODID:-//soldiersbestfriend.org//NONSGML kigkonsult.se iCalcreator 2.30.10
 //
CALSCALE:GREGORIAN
METHOD:PUBLISH
UID:cd36800f-f924-4f62-92f8-6bd4bff23727
X-WR-CALDESC:SBF will have a table at the Stand Down. Stop by to learn more
  about our program and how we can help.
X-WR-RELCALID:770433eaff023af8b11193fe66461288
X-WR-TIMEZONE:America/Phoenix
BEGIN:VTIMEZONE
TZID:America/Phoenix
BEGIN:STANDARD
TZNAME:MST
DTSTART:20230625T070000
TZOFFSETFROM:+0000
TZOFFSETTO:-0700
END:STANDARD
END:VTIMEZONE
BEGIN:VEVENT
UID:a496c25c-a5db-4b16-a40c-bb6b2c894483
DTSTAMP:20260421T145444Z
DESCRIPTION:SBF will have a table at the Stand Down. Stop by to learn more 
 about our program and how we can help.
DTSTART;TZID=America/Phoenix:20250326T090000
DTEND;TZID=America/Phoenix:20250326T140000
LOCATION:Cliff Castle Casino\, 555 W Middle Verde Rd.\, Camp Verde\, AZ 863
 22 US
SUMMARY:4th Annual Verde Valley Stand Down
END:VEVENT
END:VCALENDAR
