BEGIN:VCALENDAR
VERSION:2.0
PRODID:-//soldiersbestfriend.org//NONSGML kigkonsult.se iCalcreator 2.30.10
 //
CALSCALE:GREGORIAN
METHOD:PUBLISH
UID:286379bc-f33f-428f-a8f4-80df524fd9e2
X-WR-CALDESC:We invite you to join us for our annual fundraising event.  Pr
 oceeds from the sporting clay tournament go directly into our program to b
 enefit a combat-veteran and Arizona homeless dog.  Click the links below f
 or more information or to register.
X-WR-RELCALID:a0db9a97bdeb6d39bcbe5e393e5822ff
X-WR-TIMEZONE:America/Phoenix
BEGIN:VTIMEZONE
TZID:America/Phoenix
BEGIN:STANDARD
TZNAME:MST
DTSTART:20230614T070000
TZOFFSETFROM:+0000
TZOFFSETTO:-0700
END:STANDARD
END:VTIMEZONE
BEGIN:VEVENT
UID:e2e35a98-62ea-4123-97a9-2e459512ff0f
DTSTAMP:20260421T145433Z
DESCRIPTION:We invite you to join us for our annual fundraising event.  Pro
 ceeds from the sporting clay tournament go directly into our program to be
 nefit a combat-veteran and Arizona homeless dog.  Click the links below fo
 r more information or to register.
DTSTART;TZID=America/Phoenix:20250315T070000
DTEND;TZID=America/Phoenix:20250315T130000
LOCATION:5060 W Skeet St\, Phoenix\, AZ 85086 US
SUMMARY:SBF's 14th Annual Sporting Clay Event
END:VEVENT
END:VCALENDAR
