BEGIN:VCALENDAR
VERSION:2.0
PRODID:-//soldiersbestfriend.org//NONSGML kigkonsult.se iCalcreator 2.30.10
 //
CALSCALE:GREGORIAN
METHOD:PUBLISH
UID:9701b25c-43c7-4077-8485-be3ff7a5aae0
X-WR-CALDESC:
X-WR-RELCALID:c263f60d4e0797a60634d3d18f2482f7
X-WR-TIMEZONE:America/Phoenix
BEGIN:VTIMEZONE
TZID:America/Phoenix
BEGIN:STANDARD
TZNAME:MST
DTSTART:20230614T070000
TZOFFSETFROM:+0000
TZOFFSETTO:-0700
END:STANDARD
END:VTIMEZONE
BEGIN:VEVENT
UID:a9d81b54-3984-425a-b191-e10b64239d67
DTSTAMP:20260421T151057Z
DESCRIPTION:
DTSTART;TZID=America/Phoenix:20250315T080000
DTEND;TZID=America/Phoenix:20250315T133000
LOCATION:267 South Avenida del Convento #12\, Tucsib\, AZ 85745 US
SUMMARY:Irreverent Warriors Silkies Hike
END:VEVENT
END:VCALENDAR
