BEGIN:VCALENDAR
VERSION:2.0
PRODID:-//soldiersbestfriend.org//NONSGML kigkonsult.se iCalcreator 2.30.10
 //
CALSCALE:GREGORIAN
METHOD:PUBLISH
UID:f572c3ce-89a7-4d7d-9a2e-23d367c167ff
X-WR-CALDESC:SBF will have a table at the StandDown both days.  Stop by to 
 learn more about our program and how we can help.
X-WR-RELCALID:5ce04b52af96839a84d96eec8cedfd17
X-WR-TIMEZONE:America/Phoenix
BEGIN:VTIMEZONE
TZID:America/Phoenix
BEGIN:STANDARD
TZNAME:MST
DTSTART:20230613T070000
TZOFFSETFROM:+0000
TZOFFSETTO:-0700
END:STANDARD
END:VTIMEZONE
BEGIN:VEVENT
UID:9fea828e-2231-4205-8072-0678e2bff3d7
DTSTAMP:20260421T145422Z
DESCRIPTION:SBF will have a table at the StandDown both days.  Stop by to l
 earn more about our program and how we can help.
DTSTART;TZID=America/Phoenix:20250314T070000
DTEND;TZID=America/Phoenix:20250314T140000
LOCATION:Arizona State Fairgrounds\, 1826 W McDowell Rd\, Phoenix\, AZ 8500
 7 US
SUMMARY:Maricopa County StandDown
END:VEVENT
END:VCALENDAR
