BEGIN:VCALENDAR
VERSION:2.0
PRODID:-//soldiersbestfriend.org//NONSGML kigkonsult.se iCalcreator 2.30.10
 //
CALSCALE:GREGORIAN
METHOD:PUBLISH
UID:3baeeb96-1180-45c1-85da-4c5513ca130b
X-WR-CALDESC:SBF will have a table at the StandDown both days.  Stop by to 
 learn more about our program and how we can help.
X-WR-RELCALID:11bfd2eca9d8a98b32417a3692fc9db0
X-WR-TIMEZONE:America/Phoenix
BEGIN:VTIMEZONE
TZID:America/Phoenix
BEGIN:STANDARD
TZNAME:MST
DTSTART:20230612T070000
TZOFFSETFROM:+0000
TZOFFSETTO:-0700
END:STANDARD
END:VTIMEZONE
BEGIN:VEVENT
UID:aafd43bb-5c78-491a-b171-aa1b2cf7e79f
DTSTAMP:20260421T152452Z
DESCRIPTION:SBF will have a table at the StandDown both days.  Stop by to l
 earn more about our program and how we can help.
DTSTART;TZID=America/Phoenix:20250313T070000
DTEND;TZID=America/Phoenix:20250313T150000
LOCATION:Arizona State Fairgrounds\, 1826 W McDowell Rd\, Phoenix\, AZ 8500
 7 US
SUMMARY:Maricopa County StandDown
END:VEVENT
END:VCALENDAR
