BEGIN:VCALENDAR
VERSION:2.0
PRODID:-//soldiersbestfriend.org//NONSGML kigkonsult.se iCalcreator 2.30.10
 //
CALSCALE:GREGORIAN
METHOD:PUBLISH
UID:1ed3163f-0261-456a-8769-501fad707030
X-WR-CALDESC:SBF's Executive Director\, Mik\, will have a table at this eve
 nt.  Stop by to say 'hi' and to learn more about our program.
X-WR-RELCALID:86291e958f8428504683565ef2456f4f
X-WR-TIMEZONE:America/Phoenix
BEGIN:VTIMEZONE
TZID:America/Phoenix
BEGIN:STANDARD
TZNAME:MST
DTSTART:20230604T070000
TZOFFSETFROM:+0000
TZOFFSETTO:-0700
END:STANDARD
END:VTIMEZONE
BEGIN:VEVENT
UID:3c707bab-29d6-4b76-967c-b053abf9f42d
DTSTAMP:20260421T151015Z
DESCRIPTION:SBF's Executive Director\, Mik\, will have a table at this even
 t.  Stop by to say 'hi' and to learn more about our program.
DTSTART;TZID=America/Phoenix:20250305T090000
DTEND;TZID=America/Phoenix:20250305T150000
LOCATION:Ramada Inn\, 777 W. Cushing Street\, Tucson\, AZ 85745 US
SUMMARY:Tucson Standdown
END:VEVENT
END:VCALENDAR
