BEGIN:VCALENDAR
VERSION:2.0
PRODID:-//soldiersbestfriend.org//NONSGML kigkonsult.se iCalcreator 2.30.10
 //
CALSCALE:GREGORIAN
METHOD:PUBLISH
UID:444f9c9b-5aa0-4755-b597-5f2d759fdb39
X-WR-CALDESC:An SBF representative will give a presentation to the Sunland 
 Springs Village Veterans Club.
X-WR-RELCALID:d10142f74e10ba63cbc200ffbee53589
X-WR-TIMEZONE:America/Phoenix
BEGIN:VTIMEZONE
TZID:America/Phoenix
BEGIN:STANDARD
TZNAME:MST
DTSTART:20230604T070000
TZOFFSETFROM:+0000
TZOFFSETTO:-0700
END:STANDARD
END:VTIMEZONE
BEGIN:VEVENT
UID:5e90146f-7758-431f-b99c-c268a7c40ac8
DTSTAMP:20260421T145937Z
DESCRIPTION:An SBF representative will give a presentation to the Sunland S
 prings Village Veterans Club.
DTSTART;TZID=America/Phoenix:20250305T083000
DTEND;TZID=America/Phoenix:20250305T103000
LOCATION:
SUMMARY:Sunland Springs Village Veterans Club Presentation
END:VEVENT
END:VCALENDAR
