BEGIN:VCALENDAR
VERSION:2.0
PRODID:-//soldiersbestfriend.org//NONSGML kigkonsult.se iCalcreator 2.30.10
 //
CALSCALE:GREGORIAN
METHOD:PUBLISH
UID:6b93552e-a950-4d44-a1bc-4b492e924b37
X-WR-CALDESC:Join us for our Veteran Dog Fair sponsored by TriWest.  There 
 will be free food\, free dog vaccines and dog-friendly vendors.\n\n* Milit
 ary ID is required.\n** Limit 2 dogs per household.\n*** First come\, firs
 t serve.
X-WR-RELCALID:4d7318cdc89553a64494e5e3005403e8
X-WR-TIMEZONE:America/Phoenix
BEGIN:VTIMEZONE
TZID:America/Phoenix
BEGIN:STANDARD
TZNAME:MST
DTSTART:20221221T070000
TZOFFSETFROM:+0000
TZOFFSETTO:-0700
END:STANDARD
END:VTIMEZONE
BEGIN:VEVENT
UID:79f1976d-854a-4a9b-956d-59d271fabe26
DTSTAMP:20260421T134238Z
DESCRIPTION:Join us for our Veteran Dog Fair sponsored by TriWest.  There w
 ill be free food\, free dog vaccines and dog-friendly vendors.\n\n* Milita
 ry ID is required.\n** Limit 2 dogs per household.\n*** First come\, first
  serve.
DTSTART;TZID=America/Phoenix:20240921T110000
DTEND;TZID=America/Phoenix:20240921T140000
LOCATION:14505 N 75th Avenue\, Peoria\, AZ 85381 US
SUMMARY:Veteran Dog Fair sponsored by TriWest
END:VEVENT
END:VCALENDAR
