BEGIN:VCALENDAR
VERSION:2.0
PRODID:-//soldiersbestfriend.org//NONSGML kigkonsult.se iCalcreator 2.30.10
 //
CALSCALE:GREGORIAN
METHOD:PUBLISH
UID:940b37c6-d9a3-41af-aaa9-7ec6c0a923a5
X-WR-CALDESC:We invite you to join us for our annual fundraising event.  Pr
 oceeds from the sporting clay tournament go directly into our program to b
 enefit a combat-veteran and Arizona homeless dog.  Click the links below f
 or more information or to register.
X-WR-RELCALID:ea26587335941eafc163331ffc1528ec
X-WR-TIMEZONE:America/Phoenix
BEGIN:VTIMEZONE
TZID:America/Phoenix
BEGIN:STANDARD
TZNAME:MST
DTSTART:20220713T070000
TZOFFSETFROM:+0000
TZOFFSETTO:-0700
END:STANDARD
END:VTIMEZONE
BEGIN:VEVENT
UID:af550cf2-7d1d-467a-b7b6-2e68689fbf9a
DTSTAMP:20260421T215252Z
DESCRIPTION:We invite you to join us for our annual fundraising event.  Pro
 ceeds from the sporting clay tournament go directly into our program to be
 nefit a combat-veteran and Arizona homeless dog.  Click the links below fo
 r more information or to register.
DTSTART;TZID=America/Phoenix:20240413T080000
DTEND;TZID=America/Phoenix:20240413T130000
LOCATION:5060 W Skeet St\, Phoenix\, AZ 85086 US
SUMMARY:SBF's 13th Annual Sporting Clay Event
END:VEVENT
END:VCALENDAR
