BEGIN:VCALENDAR
VERSION:2.0
PRODID:-//soldiersbestfriend.org//NONSGML kigkonsult.se iCalcreator 2.30.10
 //
CALSCALE:GREGORIAN
METHOD:PUBLISH
UID:ce0ea4d3-55e5-4aa7-84a8-653834b47951
X-WR-CALDESC:Special benefit concert supporting Soldier's Best Friend for R
 ock Star Sponsors and Desert Rock Winery members only.  Contact Anne Morro
 ne for more information.
X-WR-RELCALID:09dad26755e2a68367cf9d5739cf27d5
X-WR-TIMEZONE:America/Phoenix
BEGIN:VTIMEZONE
TZID:America/Phoenix
BEGIN:STANDARD
TZNAME:MST
DTSTART:20220413T070000
TZOFFSETFROM:+0000
TZOFFSETTO:-0700
END:STANDARD
END:VTIMEZONE
BEGIN:VEVENT
UID:6cd52bfb-d376-4eba-89ee-b909b709b5be
DTSTAMP:20260422T024733Z
DESCRIPTION:Special benefit concert supporting Soldier's Best Friend for Ro
 ck Star Sponsors and Desert Rock Winery members only.  Contact Anne Morron
 e for more information.
DTSTART;TZID=America/Phoenix:20240113T040000
DTEND;TZID=America/Phoenix:20240113T040001
LOCATION:Desert Rock Winery\, 7302 E Helm Drive\, Scottsdale\, AZ 85260 US
SUMMARY:Rock 'n Roll Celebrity Show III
END:VEVENT
END:VCALENDAR
